BEGIN:VCALENDAR
VERSION:2.0
PRODID:-//Northbrook Park District - ECPv6.15.20//NONSGML v1.0//EN
CALSCALE:GREGORIAN
METHOD:PUBLISH
X-WR-CALNAME:Northbrook Park District
X-ORIGINAL-URL:https://www.nbparks.org
X-WR-CALDESC:Events for Northbrook Park District
REFRESH-INTERVAL;VALUE=DURATION:PT1H
X-Robots-Tag:noindex
X-PUBLISHED-TTL:PT1H
BEGIN:VTIMEZONE
TZID:America/Chicago
BEGIN:DAYLIGHT
TZOFFSETFROM:-0600
TZOFFSETTO:-0500
TZNAME:CDT
DTSTART:20250309T080000
END:DAYLIGHT
BEGIN:STANDARD
TZOFFSETFROM:-0500
TZOFFSETTO:-0600
TZNAME:CST
DTSTART:20251102T070000
END:STANDARD
BEGIN:DAYLIGHT
TZOFFSETFROM:-0600
TZOFFSETTO:-0500
TZNAME:CDT
DTSTART:20260308T080000
END:DAYLIGHT
BEGIN:STANDARD
TZOFFSETFROM:-0500
TZOFFSETTO:-0600
TZNAME:CST
DTSTART:20261101T070000
END:STANDARD
BEGIN:DAYLIGHT
TZOFFSETFROM:-0600
TZOFFSETTO:-0500
TZNAME:CDT
DTSTART:20270314T080000
END:DAYLIGHT
BEGIN:STANDARD
TZOFFSETFROM:-0500
TZOFFSETTO:-0600
TZNAME:CST
DTSTART:20271107T070000
END:STANDARD
END:VTIMEZONE
BEGIN:VEVENT
DTSTART;TZID=America/Chicago:20260704T073000
DTEND;TZID=America/Chicago:20260704T093000
DTSTAMP:20260421T130241
CREATED:20260217T173223Z
LAST-MODIFIED:20260217T173223Z
UID:10001753-1783150200-1783157400@www.nbparks.org
SUMMARY:18th Annual Liberty Loop & Lap
DESCRIPTION:Enjoy an annual holiday tradition with a scenic run or walk on our certified 5K course through Techny Prairie Park and Fields and Meadowhill Park. Winners in each category receive medals. Junior joggers can participate in the one-mile modified Liberty Lap Fun Run course. Registration will be available soon.
URL:https://www.nbparks.org/event/18th-annual-liberty-loop-lap/
LOCATION:Techny Prairie Park & Fields\, 1700 Techny Road\, Northbrook\, IL\, 60062
CATEGORIES:Community Events
END:VEVENT
BEGIN:VEVENT
DTSTART;TZID=America/Chicago:20260707T094500
DTEND;TZID=America/Chicago:20260707T140000
DTSTAMP:20260421T130241
CREATED:20260406T200003Z
LAST-MODIFIED:20260406T200003Z
UID:10001781-1783417500-1783432800@www.nbparks.org
SUMMARY:Senior Center Trip: Balloon Museum
DESCRIPTION:Take a local trip with us at Northbrook Senior Center!\nJoin us as we venture out to the Balloon Museum in Chicago where there are interactive exhibits and we’ll learn all about the history of ballooning. Meet at Northbrook Community Center for bus departure at 9:45am. Box lunch included. \nRegistration Coming Soon
URL:https://www.nbparks.org/event/senior-center-trip-balloon-museum/
LOCATION:Northbrook Community Center\, 3323 Walters Avenue\, Northbrook\, IL\, 60062\, United States
CATEGORIES:Seniors
ATTACH;FMTTYPE=image/jpeg:https://www.nbparks.org/wp-content/uploads/PRGRM-0622-Calendar-Slides-1280x720-5.avif
END:VEVENT
BEGIN:VEVENT
DTSTART;TZID=America/Chicago:20260707T183000
DTEND;TZID=America/Chicago:20260707T210000
DTSTAMP:20260421T130241
CREATED:20260217T180558Z
LAST-MODIFIED:20260217T180558Z
UID:10001762-1783449000-1783458000@www.nbparks.org
SUMMARY:Tuesdays in the Park
DESCRIPTION:Northbrook’s free summer concert series returns to Village Green Park this Summer!\nGrab your chair or picnic blanket and head over to enjoy fun performances in the park. Entertainment for younger audiences starts at 6:30pm\, and all ages entertainment at 7:15pm. Be sure to stop by the Northbrook Park District table to enter our free weekly prize drawings and maybe get a fun giveaway item too. For a full musical lineup\, check back soon! \nJune 23 \nJune 30 \nJuly 7 \nJuly 14 \nJuly 21 \nJuly 28 \nAugust 4
URL:https://www.nbparks.org/event/tuesdays-in-the-park-3/
LOCATION:Village Green Park\, 1810 Walters Ave\, Northbrook\, IL\, 60062\, United States
CATEGORIES:Community Events,Village Green Park
ATTACH;FMTTYPE=image/jpeg:https://www.nbparks.org/wp-content/uploads/EVNT-0625-250190-TuesPark-Web-Calendar-1280x720-1.avif
END:VEVENT
BEGIN:VEVENT
DTSTART;TZID=America/Chicago:20260710T140000
DTEND;TZID=America/Chicago:20260710T160000
DTSTAMP:20260421T130241
CREATED:20260421T170200Z
LAST-MODIFIED:20260421T170200Z
UID:10001808-1783692000-1783699200@www.nbparks.org
SUMMARY:Chalk the Deck
DESCRIPTION:Decorate the pool deck with chalk at Northbrook Sports Center Pool! Chalk will be provided only while supplies last. Free for pool members. Daily fee required for non-members.
URL:https://www.nbparks.org/event/chalk-the-deck/2026-07-10/
LOCATION:Northbrook Sports Center\, 1730 Pfingsten Road\, IL\, 60062\, United States
CATEGORIES:Community Events,Northbrook Sports Center
ATTACH;FMTTYPE=image/jpeg:https://www.nbparks.org/wp-content/uploads/AQUA-0625-250490-ChalkTheDeck-Web-Calendar-1280x720-1.avif
END:VEVENT
BEGIN:VEVENT
DTSTART;TZID=America/Chicago:20260712T100000
DTEND;TZID=America/Chicago:20260712T110000
DTSTAMP:20260421T130241
CREATED:20260421T163326Z
LAST-MODIFIED:20260421T164314Z
UID:10001796-1783850400-1783854000@www.nbparks.org
SUMMARY:Pool Member Appreciation Day
DESCRIPTION:Enjoy special pool access exclusively for members during this new summer event! An extra hour of open swim will be provided to pool pass members only on the designated dates and times. \nPool passes allow unlimited admission during pool hours to Meadowhill Aquatic Center and the Northbrook Sports Center Pool for the 2026 season. Members also receive discounts on aquatic classes and rentals. \nPurchase Your Pool Pass
URL:https://www.nbparks.org/event/pool-member-appreciation-day/2026-07-12/
LOCATION:Meadowhill Aquatic Center\, 1501 Maple Ave\, Northbrook\, IL\, 60062\, United States
CATEGORIES:Community Events,Meadowhill Aquatic Center,Northbrook Sports Center
END:VEVENT
BEGIN:VEVENT
DTSTART;TZID=America/Chicago:20260713T183000
DTEND;TZID=America/Chicago:20260713T183000
DTSTAMP:20260421T130241
CREATED:20251211T201443Z
LAST-MODIFIED:20251211T204657Z
UID:10001730-1783967400-1783967400@www.nbparks.org
SUMMARY:Park Board of Commissioners Committee-of-the-Whole Meeting
DESCRIPTION:A Northbrook Park District Board of Commissioners Committee-of-the-Whole Meeting is scheduled for Monday\, July 13\, 2026 at 6:30pm. \nView Meeting Schedule
URL:https://www.nbparks.org/event/commiteemeeting-2026-07-13/
LOCATION:Joe Doud Administration Building\, 545 Academy Dr\, Northbrook\, IL\, 60062
CATEGORIES:Board & Committee Meetings
END:VEVENT
BEGIN:VEVENT
DTSTART;TZID=America/Chicago:20260714T183000
DTEND;TZID=America/Chicago:20260714T210000
DTSTAMP:20260421T130241
CREATED:20260217T180640Z
LAST-MODIFIED:20260217T180640Z
UID:10001763-1784053800-1784062800@www.nbparks.org
SUMMARY:Tuesdays in the Park
DESCRIPTION:Northbrook’s free summer concert series returns to Village Green Park this Summer!\nGrab your chair or picnic blanket and head over to enjoy fun performances in the park. Entertainment for younger audiences starts at 6:30pm\, and all ages entertainment at 7:15pm. Be sure to stop by the Northbrook Park District table to enter our free weekly prize drawings and maybe get a fun giveaway item too. For a full musical lineup\, check back soon! \nJune 23 \nJune 30 \nJuly 7 \nJuly 14 \nJuly 21 \nJuly 28 \nAugust 4
URL:https://www.nbparks.org/event/tuesdays-in-the-park-4/
LOCATION:Village Green Park\, 1810 Walters Ave\, Northbrook\, IL\, 60062\, United States
CATEGORIES:Community Events,Village Green Park
ATTACH;FMTTYPE=image/jpeg:https://www.nbparks.org/wp-content/uploads/EVNT-0625-250190-TuesPark-Web-Calendar-1280x720-1.avif
END:VEVENT
BEGIN:VEVENT
DTSTART;TZID=America/Chicago:20260718T100000
DTEND;TZID=America/Chicago:20260718T110000
DTSTAMP:20260421T130241
CREATED:20260217T173425Z
LAST-MODIFIED:20260217T173425Z
UID:10001754-1784368800-1784372400@www.nbparks.org
SUMMARY:Northbrook Cardboard Regatta
DESCRIPTION:Can you turn paper into a seaworthy vessel? Join us for a challenging\, fun and wet adventure that combines cardboard\, tape\, creativity\, energy and engineering. Build a cardboard boat and bring it to Northbrook Sports Center pool to race against other boats in heats. Awards are presented for speed\, creativity\, people’s choice and team spirit. Registration will be available soon.
URL:https://www.nbparks.org/event/northbrook-cardboard-regatta/
LOCATION:Northbrook Sports Center\, 1730 Pfingsten Road\, IL\, 60062\, United States
CATEGORIES:Community Events
END:VEVENT
BEGIN:VEVENT
DTSTART;TZID=America/Chicago:20260718T100000
DTEND;TZID=America/Chicago:20260718T113000
DTSTAMP:20260421T130241
CREATED:20260421T165853Z
LAST-MODIFIED:20260421T165853Z
UID:10001805-1784368800-1784374200@www.nbparks.org
SUMMARY:Northbrook Cardboard Regatta
DESCRIPTION:Ages: 6-16 \nCode: 29058 \nCan you turn paper into a seaworthy vessel? Join us for a challenging\, fun and wet adventure that combines cardboard\, tape\, creativity\, energy and engineering. Build a cardboard boat and bring it to the pool to race against other boats. Awards are presented for speed\, creativity\, people’s choice and team spirit. Each team member must register individually. \nRegistration & Availability
URL:https://www.nbparks.org/event/northbrook-cardboard-regatta-2/
LOCATION:Northbrook Sports Center\, 1730 Pfingsten Road\, IL\, 60062\, United States
CATEGORIES:Community Events,Northbrook Sports Center
ATTACH;FMTTYPE=image/jpeg:https://www.nbparks.org/wp-content/uploads/AQUA-0725-250489-CardboardRegatta-Web-Calendar-1280x720-1.avif
END:VEVENT
BEGIN:VEVENT
DTSTART;TZID=America/Chicago:20260719T160000
DTEND;TZID=America/Chicago:20260719T180000
DTSTAMP:20260421T130241
CREATED:20260421T163809Z
LAST-MODIFIED:20260421T164220Z
UID:10001802-1784476800-1784484000@www.nbparks.org
SUMMARY:Sensory-Friendly Pool Day
DESCRIPTION:This pool event goes beyond the traditional aquatic experience\, creating a calm and comfortable environment with no music or loud noises. Join us for an evening at Northbrook Sports Center Pool to enjoy the therapeutic benefits of swimming without the sensory overload a public pool can create. All ages are welcome. No registration required. Pool members can use their passes to enter. \nDaily Admission per Person: Resident $3 / Non-Resident $5 \nPool Information
URL:https://www.nbparks.org/event/sensory-friendly-pool-day/2026-07-19/
LOCATION:Northbrook Sports Center\, 1730 Pfingsten Road\, IL\, 60062\, United States
CATEGORIES:Community Events,Northbrook Sports Center
END:VEVENT
BEGIN:VEVENT
DTSTART;TZID=America/Chicago:20260721T183000
DTEND;TZID=America/Chicago:20260721T210000
DTSTAMP:20260421T130241
CREATED:20260217T180809Z
LAST-MODIFIED:20260217T180809Z
UID:10001764-1784658600-1784667600@www.nbparks.org
SUMMARY:Tuesdays in the Park
DESCRIPTION:Northbrook’s free summer concert series returns to Village Green Park this Summer!\nGrab your chair or picnic blanket and head over to enjoy fun performances in the park. Entertainment for younger audiences starts at 6:30pm\, and all ages entertainment at 7:15pm. Be sure to stop by the Northbrook Park District table to enter our free weekly prize drawings and maybe get a fun giveaway item too. For a full musical lineup\, check back soon! \nJune 23 \nJune 30 \nJuly 7 \nJuly 14 \nJuly 21 \nJuly 28 \nAugust 4
URL:https://www.nbparks.org/event/tuesdays-in-the-park-5/
LOCATION:Village Green Park\, 1810 Walters Ave\, Northbrook\, IL\, 60062\, United States
CATEGORIES:Community Events,Village Green Park
ATTACH;FMTTYPE=image/jpeg:https://www.nbparks.org/wp-content/uploads/EVNT-0625-250190-TuesPark-Web-Calendar-1280x720-1.avif
END:VEVENT
BEGIN:VEVENT
DTSTART;TZID=America/Chicago:20260722T190000
DTEND;TZID=America/Chicago:20260722T190000
DTSTAMP:20260421T130241
CREATED:20251204T214853Z
LAST-MODIFIED:20251204T220805Z
UID:10001719-1784746800-1784746800@www.nbparks.org
SUMMARY:Park Board of Commissioners Regular Board Meeting
DESCRIPTION:A Regular Board Meeting of the Northbrook Park District Board of Commissioners is scheduled for Wednesday\, July 22\, 2026 at 7pm. \nView Meeting Schedule
URL:https://www.nbparks.org/event/boardmeeting-2026-07-22/
LOCATION:Joe Doud Administration Building\, 545 Academy Dr\, Northbrook\, IL\, 60062
CATEGORIES:Board & Committee Meetings
END:VEVENT
BEGIN:VEVENT
DTSTART;TZID=America/Chicago:20260724T133000
DTEND;TZID=America/Chicago:20260724T150000
DTSTAMP:20260421T130241
CREATED:20260407T161518Z
LAST-MODIFIED:20260407T161518Z
UID:10001789-1784899800-1784905200@www.nbparks.org
SUMMARY:Tropical Twist Bingo
DESCRIPTION:Ages: 55+ \nJoin Northbrook Senior Center for Bingo and light tropical refreshments. Play island-fun Bingo and win some beautiful prizes. \nAvailability & Registration
URL:https://www.nbparks.org/event/tropical-twist-bingo/
LOCATION:Northbrook Community Center\, 3323 Walters Avenue\, Northbrook\, IL\, 60062\, United States
CATEGORIES:Seniors
ATTACH;FMTTYPE=image/jpeg:https://www.nbparks.org/wp-content/uploads/PRGRM-0622-Calendar-Slides-1280x720-.avif
END:VEVENT
BEGIN:VEVENT
DTSTART;TZID=America/Chicago:20260724T201500
DTEND;TZID=America/Chicago:20260724T221500
DTSTAMP:20260421T130241
CREATED:20260421T165100Z
LAST-MODIFIED:20260421T165100Z
UID:10001804-1784924100-1784931300@www.nbparks.org
SUMMARY:Teen Night at Meadowhill Aquatic Center
DESCRIPTION:Ages: 11-14 \nCode: 29059 \nMake a splash at our summer pool bash at Meadowhill Aquatic Center with swimming\, games\, music and pizza. It’s a night of fun you won’t want to miss! \nRegistration & Availability
URL:https://www.nbparks.org/event/teen-night-at-meadowhill-aquatic-center/
LOCATION:Meadowhill Aquatic Center\, 1501 Maple Ave\, Northbrook\, IL\, 60062\, United States
CATEGORIES:Community Events,Meadowhill Aquatic Center
END:VEVENT
BEGIN:VEVENT
DTSTART;TZID=America/Chicago:20260725T110000
DTEND;TZID=America/Chicago:20260725T180000
DTSTAMP:20260421T130241
CREATED:20260217T173918Z
LAST-MODIFIED:20260217T173918Z
UID:10001756-1784977200-1785002400@www.nbparks.org
SUMMARY:Cup in Hand Kickball
DESCRIPTION:Grab your friends\, fill up your cup\, and join us for the Cup-in-Hand Kickball Tournament! This co-ed tournament is for anyone ages 21 and over\, looking to have a fun-filled afternoon. Each team will play a minimum of two games and a cash prize will be given to the first and second place teams. Registration will be available soon.
URL:https://www.nbparks.org/event/cup-in-hand-kickball/
LOCATION:Techny Prairie Park & Fields\, 1700 Techny Road\, Northbrook\, IL\, 60062
CATEGORIES:Community Events,Techny Prairie Park & Fields
END:VEVENT
BEGIN:VEVENT
DTSTART;TZID=America/Chicago:20260725T120000
DTEND;TZID=America/Chicago:20260725T140000
DTSTAMP:20260421T130241
CREATED:20260421T170505Z
LAST-MODIFIED:20260421T170505Z
UID:10001814-1784980800-1784988000@www.nbparks.org
SUMMARY:DJ on Deck
DESCRIPTION:Join us for a fun\, jamming day at the pool with music and contests\, all provided by our special DJ guest! Free for pool members. Daily fee required for non-members.
URL:https://www.nbparks.org/event/dj-on-deck-2/2026-07-25/
LOCATION:Meadowhill Aquatic Center\, 1501 Maple Ave\, Northbrook\, IL\, 60062\, United States
CATEGORIES:Community Events,Meadowhill Aquatic Center
END:VEVENT
BEGIN:VEVENT
DTSTART;TZID=America/Chicago:20260725T180000
DTEND;TZID=America/Chicago:20260725T210000
DTSTAMP:20260421T130241
CREATED:20260217T173725Z
LAST-MODIFIED:20260217T173725Z
UID:10001755-1785002400-1785013200@www.nbparks.org
SUMMARY:Kids' Duathlon
DESCRIPTION:Test your skills at the 13th annual Kids’ Duathlon! The event includes biking at the Ed Rudolph Velodrome and running in Meadowhill Park. After the event\, participants can enjoy pizza\, drinks\, dessert and swimming at Meadowhill Aquatic Center. Registration will be available soon.
URL:https://www.nbparks.org/event/kids-duathlon/
LOCATION:Meadowhill Park\, 1479 Maple Avenue\, Northbrook\, IL\, 60062\, United States
CATEGORIES:Community Events
END:VEVENT
BEGIN:VEVENT
DTSTART;TZID=America/Chicago:20260728T183000
DTEND;TZID=America/Chicago:20260728T210000
DTSTAMP:20260421T130241
CREATED:20260217T180902Z
LAST-MODIFIED:20260217T180902Z
UID:10001765-1785263400-1785272400@www.nbparks.org
SUMMARY:Tuesdays in the Park
DESCRIPTION:Northbrook’s free summer concert series returns to Village Green Park this Summer!\nGrab your chair or picnic blanket and head over to enjoy fun performances in the park. Entertainment for younger audiences starts at 6:30pm\, and all ages entertainment at 7:15pm. Be sure to stop by the Northbrook Park District table to enter our free weekly prize drawings and maybe get a fun giveaway item too. For a full musical lineup\, check back soon! \nJune 23 \nJune 30 \nJuly 7 \nJuly 14 \nJuly 21 \nJuly 28 \nAugust 4
URL:https://www.nbparks.org/event/tuesdays-in-the-park-6/
LOCATION:Village Green Park\, 1810 Walters Ave\, Northbrook\, IL\, 60062\, United States
CATEGORIES:Community Events,Village Green Park
ATTACH;FMTTYPE=image/jpeg:https://www.nbparks.org/wp-content/uploads/EVNT-0625-250190-TuesPark-Web-Calendar-1280x720-1.avif
END:VEVENT
END:VCALENDAR