BEGIN:VCALENDAR
VERSION:2.0
PRODID:-//Northbrook Park District - ECPv6.15.20//NONSGML v1.0//EN
CALSCALE:GREGORIAN
METHOD:PUBLISH
X-ORIGINAL-URL:https://www.nbparks.org
X-WR-CALDESC:Events for Northbrook Park District
REFRESH-INTERVAL;VALUE=DURATION:PT1H
X-Robots-Tag:noindex
X-PUBLISHED-TTL:PT1H
BEGIN:VTIMEZONE
TZID:America/Chicago
BEGIN:DAYLIGHT
TZOFFSETFROM:-0600
TZOFFSETTO:-0500
TZNAME:CDT
DTSTART:20250309T080000
END:DAYLIGHT
BEGIN:STANDARD
TZOFFSETFROM:-0500
TZOFFSETTO:-0600
TZNAME:CST
DTSTART:20251102T070000
END:STANDARD
BEGIN:DAYLIGHT
TZOFFSETFROM:-0600
TZOFFSETTO:-0500
TZNAME:CDT
DTSTART:20260308T080000
END:DAYLIGHT
BEGIN:STANDARD
TZOFFSETFROM:-0500
TZOFFSETTO:-0600
TZNAME:CST
DTSTART:20261101T070000
END:STANDARD
BEGIN:DAYLIGHT
TZOFFSETFROM:-0600
TZOFFSETTO:-0500
TZNAME:CDT
DTSTART:20270314T080000
END:DAYLIGHT
BEGIN:STANDARD
TZOFFSETFROM:-0500
TZOFFSETTO:-0600
TZNAME:CST
DTSTART:20271107T070000
END:STANDARD
END:VTIMEZONE
BEGIN:VEVENT
DTSTART;TZID=America/Chicago:20260606T100000
DTEND;TZID=America/Chicago:20260606T150000
DTSTAMP:20260421T111152
CREATED:20260225T175438Z
LAST-MODIFIED:20260225T175438Z
UID:10001774-1780740000-1780758000@www.nbparks.org
SUMMARY:Climate Action Day
DESCRIPTION:Northbrook Park District is excited to partake in the Village of Northbrook Sustainability Commission’s Climate Action Day resource fair celebrating World Environment Day! \nLocated behind Village Hall (1225 Cedar Ln)\, attendees can explore the Village Hall demonstration garden and connect with experts sharing valuable information on sustainability. Meet community partners for practical tips to make your home\, landscape and transportation more sustainable and energy-efficient\, adopt sustainable lifestyle practices\, and reduce you environmental impact. For more information\, please contact Village of Northbrook.
URL:https://www.nbparks.org/event/climate-action-day/
LOCATION:Village Hall (Village of Northbrook)\, 1225 Cedar Ln\, Northbrook\, IL\, 60062\, United States
CATEGORIES:Community Events
END:VEVENT
BEGIN:VEVENT
DTSTART;TZID=America/Chicago:20260606T110000
DTEND;TZID=America/Chicago:20260606T110000
DTSTAMP:20260421T111152
CREATED:20251113T212324Z
LAST-MODIFIED:20251113T212324Z
UID:10001689-1780743600-1780743600@www.nbparks.org
SUMMARY:Northbrook Sports Center Pool Opening Day
DESCRIPTION:Northbrook Sports Center Pool will open on June 6\, 2026! Learn more about Northbrook pools and pool membership options now. \nLearn more
URL:https://www.nbparks.org/event/northbrook-sports-center-pool-opening-day/
LOCATION:Northbrook Sports Center\, 1730 Pfingsten Road\, IL\, 60062\, United States
CATEGORIES:Community Events,Meadowhill Aquatic Center
END:VEVENT
BEGIN:VEVENT
DTSTART;VALUE=DATE:20260608
DTEND;VALUE=DATE:20260609
DTSTAMP:20260421T111152
CREATED:20260217T181508Z
LAST-MODIFIED:20260217T181508Z
UID:10001767-1780876800-1780963199@www.nbparks.org
SUMMARY:First Day of Summer Camp!
DESCRIPTION:Welcome back campers!\nSummer camp officially kicks off on Monday\, June 8! Register by week or by session\, so your child can always join in on the fun. \nLearn More
URL:https://www.nbparks.org/event/first-day-of-summer-camp/
LOCATION:IL
ATTACH;FMTTYPE=image/jpeg:https://www.nbparks.org/wp-content/uploads/PRGRM-0125-250790-CampRegistration-Web-Calendar-1280x720-1.avif
END:VEVENT
BEGIN:VEVENT
DTSTART;TZID=America/Chicago:20260610T120000
DTEND;TZID=America/Chicago:20260610T133000
DTSTAMP:20260421T111152
CREATED:20260406T201531Z
LAST-MODIFIED:20260406T201531Z
UID:10001783-1781092800-1781098200@www.nbparks.org
SUMMARY:"I Love Lucy" Presented by Todd Hunt
DESCRIPTION:Journey back to the golden age of television with slides\, audio and video clips to reveal how this classic was created 75 years ago in 1951. Discover how it grew out of Lucy;s radio program “My Favorite Husband”. Trace the arrival of Desi Arnaz from Cuba with no money and his rise to the head of Desilu Productions. And delve into the life stories of Lucy\, Desi and cast members Vivian Vance and William Frawley. Remember the chocolate factory? Stomping grapes? Vitameatavegamin? These episodes all have fascinating backstories. \nRegistration Coming Soon
URL:https://www.nbparks.org/event/i-love-lucy-presented-by-todd-hunt/
LOCATION:Northbrook Community Center\, 3323 Walters Avenue\, Northbrook\, IL\, 60062\, United States
CATEGORIES:Seniors
ATTACH;FMTTYPE=image/jpeg:https://www.nbparks.org/wp-content/uploads/PRGRM-0622-Calendar-Slides-1280x720-5.avif
END:VEVENT
BEGIN:VEVENT
DTSTART;TZID=America/Chicago:20260612T120000
DTEND;TZID=America/Chicago:20260612T133000
DTSTAMP:20260421T111152
CREATED:20260406T200853Z
LAST-MODIFIED:20260406T200853Z
UID:10001782-1781265600-1781271000@www.nbparks.org
SUMMARY:Senior Center Welcome Luncheon
DESCRIPTION:Join us as we kick off the summer at our newly updated facility! BBQ lunch and entertainment are included. We will be outside\, weather permitting. \nRegistration & Availability
URL:https://www.nbparks.org/event/senior-center-welcome-luncheon/
LOCATION:Northbrook Community Center\, 3323 Walters Avenue\, Northbrook\, IL\, 60062\, United States
CATEGORIES:Seniors
ATTACH;FMTTYPE=image/jpeg:https://www.nbparks.org/wp-content/uploads/PRGRM-0622-Calendar-Slides-1280x720-5.avif
END:VEVENT
BEGIN:VEVENT
DTSTART;TZID=America/Chicago:20260615T183000
DTEND;TZID=America/Chicago:20260615T183000
DTSTAMP:20260421T111152
CREATED:20251211T201000Z
LAST-MODIFIED:20251211T210935Z
UID:10001729-1781548200-1781548200@www.nbparks.org
SUMMARY:Park Board of Commissioners Committee-of-the-Whole Meeting
DESCRIPTION:A Northbrook Park District Board of Commissioners Committee-of-the-Whole Meeting is scheduled for Monday\, June 15\, 2026 at 6:30pm. \nView Meeting Schedule
URL:https://www.nbparks.org/event/committeemeeting-2026-06-15/
LOCATION:Joe Doud Administration Building\, 545 Academy Dr\, Northbrook\, IL\, 60062
CATEGORIES:Board & Committee Meetings
END:VEVENT
BEGIN:VEVENT
DTSTART;TZID=America/Chicago:20260620T160000
DTEND;TZID=America/Chicago:20260620T200000
DTSTAMP:20260421T111152
CREATED:20260217T172851Z
LAST-MODIFIED:20260416T181649Z
UID:10001752-1781971200-1781985600@www.nbparks.org
SUMMARY:Grapes on the Green
DESCRIPTION:The Village of Northbrook and Northbrook Park District are excited to host our 4th annual Grapes on the Green at Village Green Park. Join us for wine tastings\, live music\, art and games! Bring your own blanket and a picnic dinner. Light snacks will be provided. Tickets will be available soon!
URL:https://www.nbparks.org/event/grapesonthegreen/
LOCATION:Village Green Park\, 1810 Walters Ave\, Northbrook\, IL\, 60062\, United States
CATEGORIES:Community Events
ATTACH;FMTTYPE=image/jpeg:https://www.nbparks.org/wp-content/uploads/EVNT-0625-250372-GrapesOnTheGreen-Web-Calendar-1280x720-1.avif
END:VEVENT
BEGIN:VEVENT
DTSTART;TZID=America/Chicago:20260623T183000
DTEND;TZID=America/Chicago:20260623T210000
DTSTAMP:20260421T111152
CREATED:20260217T180350Z
LAST-MODIFIED:20260217T180350Z
UID:10001760-1782239400-1782248400@www.nbparks.org
SUMMARY:Tuesdays in the Park
DESCRIPTION:Northbrook’s free summer concert series returns to Village Green Park this Summer!\nGrab your chair or picnic blanket and head over to enjoy fun performances in the park. Entertainment for younger audiences starts at 6:30pm\, and all ages entertainment at 7:15pm. Be sure to stop by the Northbrook Park District table to enter our free weekly prize drawings and maybe get a fun giveaway item too. For a full musical lineup\, check back soon! \nJune 23 \nJune 30 \nJuly 7 \nJuly 14 \nJuly 21 \nJuly 28 \nAugust 4
URL:https://www.nbparks.org/event/tuesdays-in-the-park/
LOCATION:Village Green Park\, 1810 Walters Ave\, Northbrook\, IL\, 60062\, United States
CATEGORIES:Community Events,Village Green Park
ATTACH;FMTTYPE=image/jpeg:https://www.nbparks.org/wp-content/uploads/EVNT-0625-250190-TuesPark-Web-Calendar-1280x720-1.avif
END:VEVENT
BEGIN:VEVENT
DTSTART;TZID=America/Chicago:20260624T190000
DTEND;TZID=America/Chicago:20260624T190000
DTSTAMP:20260421T111152
CREATED:20251204T214317Z
LAST-MODIFIED:20251204T214317Z
UID:10001718-1782327600-1782327600@www.nbparks.org
SUMMARY:Park Board of Commissioners Regular Board Meeting
DESCRIPTION:A Regular Board Meeting of the Northbrook Park District Board of Commissioners is scheduled for Wednesday\, June 24\, 2026 at 7pm. \nView Meeting Schedule
URL:https://www.nbparks.org/event/boardmeeting-2026-06-24/
LOCATION:Joe Doud Administration Building\, 545 Academy Dr\, Northbrook\, IL\, 60062
CATEGORIES:Board & Committee Meetings
END:VEVENT
BEGIN:VEVENT
DTSTART;TZID=America/Chicago:20260626T133000
DTEND;TZID=America/Chicago:20260626T150000
DTSTAMP:20260421T111152
CREATED:20260407T161248Z
LAST-MODIFIED:20260407T161354Z
UID:10001788-1782480600-1782486000@www.nbparks.org
SUMMARY:Sizzling Summer Bingo
DESCRIPTION:Ages: 55+ \nJoin Northbrook Senior Center for Bingo and light refreshments. Cool off with us\, play Bingo and win some beautiful prizes. \nAvailability & Registration
URL:https://www.nbparks.org/event/sizzling-summer-bingo/
LOCATION:Northbrook Community Center\, 3323 Walters Avenue\, Northbrook\, IL\, 60062\, United States
CATEGORIES:Seniors
ATTACH;FMTTYPE=image/jpeg:https://www.nbparks.org/wp-content/uploads/PRGRM-0622-Calendar-Slides-1280x720-.avif
END:VEVENT
BEGIN:VEVENT
DTSTART;TZID=America/Chicago:20260630T183000
DTEND;TZID=America/Chicago:20260630T210000
DTSTAMP:20260421T111152
CREATED:20260217T180527Z
LAST-MODIFIED:20260217T180527Z
UID:10001761-1782844200-1782853200@www.nbparks.org
SUMMARY:Tuesdays in the Park
DESCRIPTION:Northbrook’s free summer concert series returns to Village Green Park this Summer!\nGrab your chair or picnic blanket and head over to enjoy fun performances in the park. Entertainment for younger audiences starts at 6:30pm\, and all ages entertainment at 7:15pm. Be sure to stop by the Northbrook Park District table to enter our free weekly prize drawings and maybe get a fun giveaway item too. For a full musical lineup\, check back soon! \nJune 23 \nJune 30 \nJuly 7 \nJuly 14 \nJuly 21 \nJuly 28 \nAugust 4
URL:https://www.nbparks.org/event/tuesdays-in-the-park-2/
LOCATION:Village Green Park\, 1810 Walters Ave\, Northbrook\, IL\, 60062\, United States
CATEGORIES:Community Events,Village Green Park
ATTACH;FMTTYPE=image/jpeg:https://www.nbparks.org/wp-content/uploads/EVNT-0625-250190-TuesPark-Web-Calendar-1280x720-1.avif
END:VEVENT
END:VCALENDAR