BEGIN:VCALENDAR
VERSION:2.0
PRODID:-//Northbrook Park District - ECPv6.15.20//NONSGML v1.0//EN
CALSCALE:GREGORIAN
METHOD:PUBLISH
X-WR-CALNAME:Northbrook Park District
X-ORIGINAL-URL:https://www.nbparks.org
X-WR-CALDESC:Events for Northbrook Park District
REFRESH-INTERVAL;VALUE=DURATION:PT1H
X-Robots-Tag:noindex
X-PUBLISHED-TTL:PT1H
BEGIN:VTIMEZONE
TZID:America/Chicago
BEGIN:DAYLIGHT
TZOFFSETFROM:-0600
TZOFFSETTO:-0500
TZNAME:CDT
DTSTART:20250309T080000
END:DAYLIGHT
BEGIN:STANDARD
TZOFFSETFROM:-0500
TZOFFSETTO:-0600
TZNAME:CST
DTSTART:20251102T070000
END:STANDARD
BEGIN:DAYLIGHT
TZOFFSETFROM:-0600
TZOFFSETTO:-0500
TZNAME:CDT
DTSTART:20260308T080000
END:DAYLIGHT
BEGIN:STANDARD
TZOFFSETFROM:-0500
TZOFFSETTO:-0600
TZNAME:CST
DTSTART:20261101T070000
END:STANDARD
BEGIN:DAYLIGHT
TZOFFSETFROM:-0600
TZOFFSETTO:-0500
TZNAME:CDT
DTSTART:20270314T080000
END:DAYLIGHT
BEGIN:STANDARD
TZOFFSETFROM:-0500
TZOFFSETTO:-0600
TZNAME:CST
DTSTART:20271107T070000
END:STANDARD
END:VTIMEZONE
BEGIN:VEVENT
DTSTART;TZID=America/Chicago:20260502T110000
DTEND;TZID=America/Chicago:20260502T123000
DTSTAMP:20260421T092315
CREATED:20251111T213342Z
LAST-MODIFIED:20260217T165007Z
UID:10001679-1777719600-1777725000@www.nbparks.org
SUMMARY:Spring Tea
DESCRIPTION:Sip tea and share small plates of food at an elegant tea party! Each registration reserves a spot for one child and one adult. \nAvailability & Registration
URL:https://www.nbparks.org/event/springtea/
LOCATION:Techny Prairie Activity Center\, 180 Anets Drive\, Northbrook\, IL\, 60062\, United States
CATEGORIES:Community Events,Techny Prairie Activity Center
ATTACH;FMTTYPE=image/jpeg:https://www.nbparks.org/wp-content/uploads/EVNT-0525-250316-SpringTea-Web-Calendar-1280x720-1.avif
END:VEVENT
BEGIN:VEVENT
DTSTART;VALUE=DATE:20260508
DTEND;VALUE=DATE:20260511
DTSTAMP:20260421T092315
CREATED:20251111T220834Z
LAST-MODIFIED:20260303T203342Z
UID:10001680-1778198400-1778457599@www.nbparks.org
SUMMARY:56th Annual Northbrook-On-Ice: KaleidoSkate
DESCRIPTION:The 56th annual Northbrook-On-Ice returns Mother’s Day weekend 2026! Watch skaters of all ages light up the rink with dazzling performances inspired by our colorful theme\, KaleidoSkate. Three shows\, endless sparkle – don’t miss this exceptional Northbrook tradition! \nShowtime Schedule\nFriday\, May 8 at 7:00pm \nSaturday\, May 9 at 11:00am and 4:00pm \nSunday\, May 10 at 1:00pm \n  \nLearn More & Purchase Tickets
URL:https://www.nbparks.org/event/noi56/
LOCATION:Northbrook Sports Center\, 1730 Pfingsten Road\, IL\, 60062\, United States
CATEGORIES:Community Events,Northbrook Sports Center,Skating
ATTACH;FMTTYPE=image/jpeg:https://www.nbparks.org/wp-content/uploads/ICE-0326-260064-NOI-Tickets-Web-Calendar-1280x720-1.avif
END:VEVENT
BEGIN:VEVENT
DTSTART;VALUE=DATE:20260515
DTEND;VALUE=DATE:20260518
DTSTAMP:20260421T092315
CREATED:20260407T143632Z
LAST-MODIFIED:20260416T215143Z
UID:10001785-1778803200-1779062399@www.nbparks.org
SUMMARY:Freaky Friday: A New Musical
DESCRIPTION:Northbrook Community Theatre is excited to present Freaky Friday: A New Musical this Spring! Directed by Katie Denten\, David Zizic\, and Rhys Steele. \nSynopsis\nTeenager Ellie Blake and her mother Katherine do not get along\, which is why it doesn’t help when Ellie and Katherine switch bodies! Now (the day before Katherine’s wedding)\, Ellie and Katherine must learn to understand each other before they are stuck in each other’s bodies forever. Based on the classic novel and films of the same name\, Freaky Friday brings all the humor and heart of the original story to the stage in this musical adaptation. Come join us! \nPerformances & Tickets\n\nFriday\, May 15 @ 7pm\nSaturday\, May 16 @ 7pm\nSunday\, May 17 @ 2pm\n\nPurchase Tickets Online
URL:https://www.nbparks.org/event/freakyfriday/
LOCATION:IL
CATEGORIES:Northbrook Theatre
ATTACH;FMTTYPE=image/jpeg:https://www.nbparks.org/wp-content/uploads/PERF-0526-260147-NCT-FreakyFriday-Tickets-Web-Calendar-1280x720-1.avif
END:VEVENT
BEGIN:VEVENT
DTSTART;TZID=America/Chicago:20260515T133000
DTEND;TZID=America/Chicago:20260515T150000
DTSTAMP:20260421T092315
CREATED:20260115T225015Z
LAST-MODIFIED:20260115T225108Z
UID:10001742-1778851800-1778857200@www.nbparks.org
SUMMARY:Spring Flowers Bingo
DESCRIPTION:Ages: 55+ \nJoin Northbrook Senior Center for Bingo and light refreshments. April showers bring May flowers! Come play Bingo and win some beautiful prizes. \nAvailability & Registration
URL:https://www.nbparks.org/event/spring-flowers-bash/
LOCATION:Techny Prairie Activity Center\, 180 Anets Drive\, Northbrook\, IL\, 60062\, United States
CATEGORIES:Seniors,Techny Prairie Activity Center
ATTACH;FMTTYPE=image/jpeg:https://www.nbparks.org/wp-content/uploads/PRGRM-0622-Calendar-Slides-1280x720-.avif
END:VEVENT
BEGIN:VEVENT
DTSTART;TZID=America/Chicago:20260516T090000
DTEND;TZID=America/Chicago:20260516T180000
DTSTAMP:20260421T092315
CREATED:20251111T223153Z
LAST-MODIFIED:20260220T174744Z
UID:10001681-1778922000-1778954400@www.nbparks.org
SUMMARY:Northbrook Baseball Community Tournament
DESCRIPTION:Northbrook Baseball and the Northbrook Park District invite all 5th and 6th graders to play in the annual Northbrook Baseball Community Tournament! \nThis free tournament will take place on Saturday\, May 16\, 2026 for a single day of multiple games at the West Park baseball fields including a championship game to crown the Northbrook community champions\, along with clinics for all ages\, charity opportunities\, food and more. Teams are evenly made among the Northbrook baseball players and any 5th or 6th graders from Northbrook interested in playing baseball. Join us to learn baseball the Spartan way! \nRegistration will be available through the Northbrook Park District (below) and on the Northbrook Baseball website. Contact Howard Jeruchimowitz at jeruchimowitzh@gtlaw.com with any questions. Rainout date will take place on 5/17. \nAvailability & Registration
URL:https://www.nbparks.org/event/northbrook-baseball-community-tournament/
LOCATION:West Park\, 1730 Pfingsten Rd\, Northbrook\, IL\, 60062\, United States
CATEGORIES:Community Events
ATTACH;FMTTYPE=image/jpeg:https://www.nbparks.org/wp-content/uploads/EVNT-0526-260065-BaseballTournament-Web-Calendar-1280x720-1.avif
ORGANIZER;CN="Northbrook Baseball":MAILTO:hello@northbrookbaseball.com
END:VEVENT
BEGIN:VEVENT
DTSTART;TZID=America/Chicago:20260518T183000
DTEND;TZID=America/Chicago:20260518T183000
DTSTAMP:20260421T092315
CREATED:20251211T195344Z
LAST-MODIFIED:20251211T195459Z
UID:10001727-1779129000-1779129000@www.nbparks.org
SUMMARY:Park Board of Commissioners Committee-of-the-Whole Meeting
DESCRIPTION:A Northbrook Park District Board of Commissioners Committee-of-the-Whole Meeting is scheduled for Monday\, May 18\, 2026 at 6:30pm. \nView Meeting Schedule
URL:https://www.nbparks.org/event/committeemeeting-2026-05-18/
LOCATION:Joe Doud Administration Building\, 545 Academy Dr\, Northbrook\, IL\, 60062
CATEGORIES:Board & Committee Meetings
END:VEVENT
BEGIN:VEVENT
DTSTART;TZID=America/Chicago:20260520T130000
DTEND;TZID=America/Chicago:20260520T143000
DTSTAMP:20260421T092315
CREATED:20260407T193943Z
LAST-MODIFIED:20260407T193943Z
UID:10001791-1779282000-1779287400@www.nbparks.org
SUMMARY:Barry Bradford Presents: The Life and Films of Paul Newman
DESCRIPTION:Ages: 55+ \nJoin Northbrook Senior Center for a riveting presentation from historian Barry Bradford. In a 60-year career\, Paul Newman starred in some of Hollywood’s greatest movies. From Cool Hand Luke and The Hustler to Tennessee Williams\, from Hud and Butch Cassidy to The Verdict and Cars\, his films rank among the best made in America. In this fast-moving multimedia presentation\, we look at Paul Newman’s extraordinary life (including his deep\, impactful commitment to philanthropy) his many hobbies (including auto racing\, pool and politics) and\, of course\, his legendary acting career. \nAvailability & Registration
URL:https://www.nbparks.org/event/barry-bradford-presents-the-life-and-films-of-paul-newman/
LOCATION:Techny Prairie Activity Center\, 180 Anets Drive\, Northbrook\, IL\, 60062\, United States
CATEGORIES:Seniors,Techny Prairie Activity Center
ATTACH;FMTTYPE=image/jpeg:https://www.nbparks.org/wp-content/uploads/PRGRM-0622-Calendar-Slides-1280x720-5.avif
END:VEVENT
BEGIN:VEVENT
DTSTART;TZID=America/Chicago:20260523T110000
DTEND;TZID=America/Chicago:20260523T110000
DTSTAMP:20260421T092315
CREATED:20251111T161111Z
LAST-MODIFIED:20251111T162012Z
UID:10001670-1779534000-1779534000@www.nbparks.org
SUMMARY:Meadowhill Aquatic Center Opening Day
DESCRIPTION:Meadowhill Aquatic Center will open on May 23\, 2026 to kick off the summer season! Learn more about Northbrook pools and pool membership options now. \nLearn more
URL:https://www.nbparks.org/event/meadowhill-aquatic-center-opening-day/
LOCATION:Meadowhill Aquatic Center\, 1501 Maple Ave\, Northbrook\, IL\, 60062\, United States
CATEGORIES:Community Events,Meadowhill Aquatic Center
END:VEVENT
BEGIN:VEVENT
DTSTART;TZID=America/Chicago:20260527T090000
DTEND;TZID=America/Chicago:20260527T130000
DTSTAMP:20260421T092315
CREATED:20260217T171707Z
LAST-MODIFIED:20260420T213716Z
UID:10001751-1779872400-1779886800@www.nbparks.org
SUMMARY:National Senior Health & Fitness Day
DESCRIPTION:Join us in celebrating National Senior Health & Fitness Day with a variety of free health & fitness programming tailored for seniors. \nThe day will include experts who will address health-related topics\, body composition analysis with InBody Scans\, fun games\, giveaways\, healthy snacks\, Open Gym Pickleball and special Group Fitness classes\, and access to the Walking Track. Register online for a quick check-in at the event; registration will be available in-person on May 27. \nActivity Schedule\n\n\n\n\n	ActivityCodeTime\n\n\n\n\n	Registration & Social286259am-1pm\n\n\n	Open Pickleball286369am-10:45am\n\n\n	W.O.W.286359:30am-10am\n\n\n	Barre2864110:15am-10:45am\n\n\n	Cardio Drumming2864211am-11:30am\n\n\n	Open Pickleball2863712:35pm-2pm
URL:https://www.nbparks.org/event/national-senior-health-fitness-day/
LOCATION:Techny Prairie Activity Center\, 180 Anets Drive\, Northbrook\, IL\, 60062\, United States
CATEGORIES:Community Events,Seniors
ATTACH;FMTTYPE=image/jpeg:https://www.nbparks.org/wp-content/uploads/FITN-0526-260259-SeniorFitnessDay-Web-Calendar-1280x720-1.avif
END:VEVENT
BEGIN:VEVENT
DTSTART;TZID=America/Chicago:20260527T090000
DTEND;TZID=America/Chicago:20260527T130000
DTSTAMP:20260421T092315
CREATED:20260414T180440Z
LAST-MODIFIED:20260414T180557Z
UID:10001793-1779872400-1779886800@www.nbparks.org
SUMMARY:National Senior Health and Fitness Day
DESCRIPTION:Join us in celebrating National Senior Health & Fitness Day with a variety of free health & fitness programming tailored for seniors! \nThe day will include experts who will address health-related topics\, body composition analysis with InBody Scans\, fun games\, giveaways\, healthy snacks and more. The day also includes free Open Gym Pickleball\, Special Group Fitness Classes\, and access to the Walking Track. Separate registration is required for the Special Group Fitness Classes\, Open Gym Pickleball\, and Prairie Room Health and Fitness activities. \nRegister Now
URL:https://www.nbparks.org/event/national-senior-health-and-fitness-day/
LOCATION:Techny Prairie Activity Center\, 180 Anets Drive\, Northbrook\, IL\, 60062\, United States
CATEGORIES:Seniors,Techny Prairie Activity Center
ATTACH;FMTTYPE=image/jpeg:https://www.nbparks.org/wp-content/uploads/FITN-0526-260259-SeniorFitnessDay-Web-Calendar-1280x720-1.avif
END:VEVENT
BEGIN:VEVENT
DTSTART;TZID=America/Chicago:20260528T190000
DTEND;TZID=America/Chicago:20260528T190000
DTSTAMP:20260421T092315
CREATED:20251204T213411Z
LAST-MODIFIED:20251204T213411Z
UID:10001717-1779994800-1779994800@www.nbparks.org
SUMMARY:Park Board of Commissioners Regular Board Meeting
DESCRIPTION:A Regular Board Meeting of the Northbrook Park District Board of Commissioners is scheduled for Thursday\, May 28\, 2026 at 7pm. \nView Meeting Schedule
URL:https://www.nbparks.org/event/boardmeeting-2026-05-28/
LOCATION:Joe Doud Administration Building\, 545 Academy Dr\, Northbrook\, IL\, 60062
CATEGORIES:Board & Committee Meetings
END:VEVENT
END:VCALENDAR