BEGIN:VCALENDAR
VERSION:2.0
PRODID:-//Northbrook Park District - ECPv6.15.20//NONSGML v1.0//EN
CALSCALE:GREGORIAN
METHOD:PUBLISH
X-WR-CALNAME:Northbrook Park District
X-ORIGINAL-URL:https://www.nbparks.org
X-WR-CALDESC:Events for Northbrook Park District
REFRESH-INTERVAL;VALUE=DURATION:PT1H
X-Robots-Tag:noindex
X-PUBLISHED-TTL:PT1H
BEGIN:VTIMEZONE
TZID:America/Chicago
BEGIN:DAYLIGHT
TZOFFSETFROM:-0600
TZOFFSETTO:-0500
TZNAME:CDT
DTSTART:20250309T080000
END:DAYLIGHT
BEGIN:STANDARD
TZOFFSETFROM:-0500
TZOFFSETTO:-0600
TZNAME:CST
DTSTART:20251102T070000
END:STANDARD
BEGIN:DAYLIGHT
TZOFFSETFROM:-0600
TZOFFSETTO:-0500
TZNAME:CDT
DTSTART:20260308T080000
END:DAYLIGHT
BEGIN:STANDARD
TZOFFSETFROM:-0500
TZOFFSETTO:-0600
TZNAME:CST
DTSTART:20261101T070000
END:STANDARD
BEGIN:DAYLIGHT
TZOFFSETFROM:-0600
TZOFFSETTO:-0500
TZNAME:CDT
DTSTART:20270314T080000
END:DAYLIGHT
BEGIN:STANDARD
TZOFFSETFROM:-0500
TZOFFSETTO:-0600
TZNAME:CST
DTSTART:20271107T070000
END:STANDARD
END:VTIMEZONE
BEGIN:VEVENT
DTSTART;TZID=America/Chicago:20260626T133000
DTEND;TZID=America/Chicago:20260626T150000
DTSTAMP:20260421T130216
CREATED:20260407T161248Z
LAST-MODIFIED:20260407T161354Z
UID:10001788-1782480600-1782486000@www.nbparks.org
SUMMARY:Sizzling Summer Bingo
DESCRIPTION:Ages: 55+ \nJoin Northbrook Senior Center for Bingo and light refreshments. Cool off with us\, play Bingo and win some beautiful prizes. \nAvailability & Registration
URL:https://www.nbparks.org/event/sizzling-summer-bingo/
LOCATION:Northbrook Community Center\, 3323 Walters Avenue\, Northbrook\, IL\, 60062\, United States
CATEGORIES:Seniors
ATTACH;FMTTYPE=image/jpeg:https://www.nbparks.org/wp-content/uploads/PRGRM-0622-Calendar-Slides-1280x720-.avif
END:VEVENT
END:VCALENDAR