BEGIN:VCALENDAR
VERSION:2.0
PRODID:-//Northbrook Park District - ECPv6.15.20//NONSGML v1.0//EN
CALSCALE:GREGORIAN
METHOD:PUBLISH
X-WR-CALNAME:Northbrook Park District
X-ORIGINAL-URL:https://www.nbparks.org
X-WR-CALDESC:Events for Northbrook Park District
REFRESH-INTERVAL;VALUE=DURATION:PT1H
X-Robots-Tag:noindex
X-PUBLISHED-TTL:PT1H
BEGIN:VTIMEZONE
TZID:America/Chicago
BEGIN:DAYLIGHT
TZOFFSETFROM:-0600
TZOFFSETTO:-0500
TZNAME:CDT
DTSTART:20250309T080000
END:DAYLIGHT
BEGIN:STANDARD
TZOFFSETFROM:-0500
TZOFFSETTO:-0600
TZNAME:CST
DTSTART:20251102T070000
END:STANDARD
BEGIN:DAYLIGHT
TZOFFSETFROM:-0600
TZOFFSETTO:-0500
TZNAME:CDT
DTSTART:20260308T080000
END:DAYLIGHT
BEGIN:STANDARD
TZOFFSETFROM:-0500
TZOFFSETTO:-0600
TZNAME:CST
DTSTART:20261101T070000
END:STANDARD
BEGIN:DAYLIGHT
TZOFFSETFROM:-0600
TZOFFSETTO:-0500
TZNAME:CDT
DTSTART:20270314T080000
END:DAYLIGHT
BEGIN:STANDARD
TZOFFSETFROM:-0500
TZOFFSETTO:-0600
TZNAME:CST
DTSTART:20271107T070000
END:STANDARD
END:VTIMEZONE
BEGIN:VEVENT
DTSTART;TZID=America/Chicago:20260620T120000
DTEND;TZID=America/Chicago:20260620T140000
DTSTAMP:20260421T130113
CREATED:20260421T170505Z
LAST-MODIFIED:20260421T170505Z
UID:10001813-1781956800-1781964000@www.nbparks.org
SUMMARY:DJ on Deck
DESCRIPTION:Join us for a fun\, jamming day at the pool with music and contests\, all provided by our special DJ guest! Free for pool members. Daily fee required for non-members.
URL:https://www.nbparks.org/event/dj-on-deck-2/2026-06-20/
LOCATION:Meadowhill Aquatic Center\, 1501 Maple Ave\, Northbrook\, IL\, 60062\, United States
CATEGORIES:Community Events,Meadowhill Aquatic Center
END:VEVENT
BEGIN:VEVENT
DTSTART;TZID=America/Chicago:20260620T160000
DTEND;TZID=America/Chicago:20260620T200000
DTSTAMP:20260421T130113
CREATED:20260217T172851Z
LAST-MODIFIED:20260416T181649Z
UID:10001752-1781971200-1781985600@www.nbparks.org
SUMMARY:Grapes on the Green
DESCRIPTION:The Village of Northbrook and Northbrook Park District are excited to host our 4th annual Grapes on the Green at Village Green Park. Join us for wine tastings\, live music\, art and games! Bring your own blanket and a picnic dinner. Light snacks will be provided. Tickets will be available soon!
URL:https://www.nbparks.org/event/grapesonthegreen/
LOCATION:Village Green Park\, 1810 Walters Ave\, Northbrook\, IL\, 60062\, United States
CATEGORIES:Community Events
ATTACH;FMTTYPE=image/jpeg:https://www.nbparks.org/wp-content/uploads/EVNT-0625-250372-GrapesOnTheGreen-Web-Calendar-1280x720-1.avif
END:VEVENT
END:VCALENDAR