BEGIN:VCALENDAR
VERSION:2.0
PRODID:-//Northbrook Park District - ECPv6.15.20//NONSGML v1.0//EN
CALSCALE:GREGORIAN
METHOD:PUBLISH
X-WR-CALNAME:Northbrook Park District
X-ORIGINAL-URL:https://www.nbparks.org
X-WR-CALDESC:Events for Northbrook Park District
REFRESH-INTERVAL;VALUE=DURATION:PT1H
X-Robots-Tag:noindex
X-PUBLISHED-TTL:PT1H
BEGIN:VTIMEZONE
TZID:America/Chicago
BEGIN:DAYLIGHT
TZOFFSETFROM:-0600
TZOFFSETTO:-0500
TZNAME:CDT
DTSTART:20250309T080000
END:DAYLIGHT
BEGIN:STANDARD
TZOFFSETFROM:-0500
TZOFFSETTO:-0600
TZNAME:CST
DTSTART:20251102T070000
END:STANDARD
BEGIN:DAYLIGHT
TZOFFSETFROM:-0600
TZOFFSETTO:-0500
TZNAME:CDT
DTSTART:20260308T080000
END:DAYLIGHT
BEGIN:STANDARD
TZOFFSETFROM:-0500
TZOFFSETTO:-0600
TZNAME:CST
DTSTART:20261101T070000
END:STANDARD
BEGIN:DAYLIGHT
TZOFFSETFROM:-0600
TZOFFSETTO:-0500
TZNAME:CDT
DTSTART:20270314T080000
END:DAYLIGHT
BEGIN:STANDARD
TZOFFSETFROM:-0500
TZOFFSETTO:-0600
TZNAME:CST
DTSTART:20271107T070000
END:STANDARD
END:VTIMEZONE
BEGIN:VEVENT
DTSTART;TZID=America/Chicago:20260612T120000
DTEND;TZID=America/Chicago:20260612T133000
DTSTAMP:20260421T130216
CREATED:20260406T200853Z
LAST-MODIFIED:20260406T200853Z
UID:10001782-1781265600-1781271000@www.nbparks.org
SUMMARY:Senior Center Welcome Luncheon
DESCRIPTION:Join us as we kick off the summer at our newly updated facility! BBQ lunch and entertainment are included. We will be outside\, weather permitting. \nRegistration & Availability
URL:https://www.nbparks.org/event/senior-center-welcome-luncheon/
LOCATION:Northbrook Community Center\, 3323 Walters Avenue\, Northbrook\, IL\, 60062\, United States
CATEGORIES:Seniors
ATTACH;FMTTYPE=image/jpeg:https://www.nbparks.org/wp-content/uploads/PRGRM-0622-Calendar-Slides-1280x720-5.avif
END:VEVENT
BEGIN:VEVENT
DTSTART;TZID=America/Chicago:20260612T140000
DTEND;TZID=America/Chicago:20260612T160000
DTSTAMP:20260421T130216
CREATED:20260421T170200Z
LAST-MODIFIED:20260421T170200Z
UID:10001807-1781272800-1781280000@www.nbparks.org
SUMMARY:Chalk the Deck
DESCRIPTION:Decorate the pool deck with chalk at Northbrook Sports Center Pool! Chalk will be provided only while supplies last. Free for pool members. Daily fee required for non-members.
URL:https://www.nbparks.org/event/chalk-the-deck/2026-06-12/
LOCATION:Northbrook Sports Center\, 1730 Pfingsten Road\, IL\, 60062\, United States
CATEGORIES:Community Events,Northbrook Sports Center
ATTACH;FMTTYPE=image/jpeg:https://www.nbparks.org/wp-content/uploads/AQUA-0625-250490-ChalkTheDeck-Web-Calendar-1280x720-1.avif
END:VEVENT
END:VCALENDAR