BEGIN:VCALENDAR
VERSION:2.0
PRODID:-//Northbrook Park District - ECPv6.15.20//NONSGML v1.0//EN
CALSCALE:GREGORIAN
METHOD:PUBLISH
X-ORIGINAL-URL:https://www.nbparks.org
X-WR-CALDESC:Events for Northbrook Park District
REFRESH-INTERVAL;VALUE=DURATION:PT1H
X-Robots-Tag:noindex
X-PUBLISHED-TTL:PT1H
BEGIN:VTIMEZONE
TZID:America/Chicago
BEGIN:DAYLIGHT
TZOFFSETFROM:-0600
TZOFFSETTO:-0500
TZNAME:CDT
DTSTART:20250309T080000
END:DAYLIGHT
BEGIN:STANDARD
TZOFFSETFROM:-0500
TZOFFSETTO:-0600
TZNAME:CST
DTSTART:20251102T070000
END:STANDARD
BEGIN:DAYLIGHT
TZOFFSETFROM:-0600
TZOFFSETTO:-0500
TZNAME:CDT
DTSTART:20260308T080000
END:DAYLIGHT
BEGIN:STANDARD
TZOFFSETFROM:-0500
TZOFFSETTO:-0600
TZNAME:CST
DTSTART:20261101T070000
END:STANDARD
BEGIN:DAYLIGHT
TZOFFSETFROM:-0600
TZOFFSETTO:-0500
TZNAME:CDT
DTSTART:20270314T080000
END:DAYLIGHT
BEGIN:STANDARD
TZOFFSETFROM:-0500
TZOFFSETTO:-0600
TZNAME:CST
DTSTART:20271107T070000
END:STANDARD
END:VTIMEZONE
BEGIN:VEVENT
DTSTART;TZID=America/Chicago:20260518T183000
DTEND;TZID=America/Chicago:20260518T183000
DTSTAMP:20260421T111009
CREATED:20251211T195344Z
LAST-MODIFIED:20251211T195459Z
UID:10001727-1779129000-1779129000@www.nbparks.org
SUMMARY:Park Board of Commissioners Committee-of-the-Whole Meeting
DESCRIPTION:A Northbrook Park District Board of Commissioners Committee-of-the-Whole Meeting is scheduled for Monday\, May 18\, 2026 at 6:30pm. \nView Meeting Schedule
URL:https://www.nbparks.org/event/committeemeeting-2026-05-18/
LOCATION:Joe Doud Administration Building\, 545 Academy Dr\, Northbrook\, IL\, 60062
CATEGORIES:Board & Committee Meetings
END:VEVENT
END:VCALENDAR