BEGIN:VCALENDAR
VERSION:2.0
PRODID:-//Northbrook Park District - ECPv6.15.20//NONSGML v1.0//EN
CALSCALE:GREGORIAN
METHOD:PUBLISH
X-ORIGINAL-URL:https://www.nbparks.org
X-WR-CALDESC:Events for Northbrook Park District
REFRESH-INTERVAL;VALUE=DURATION:PT1H
X-Robots-Tag:noindex
X-PUBLISHED-TTL:PT1H
BEGIN:VTIMEZONE
TZID:America/Chicago
BEGIN:DAYLIGHT
TZOFFSETFROM:-0600
TZOFFSETTO:-0500
TZNAME:CDT
DTSTART:20250309T080000
END:DAYLIGHT
BEGIN:STANDARD
TZOFFSETFROM:-0500
TZOFFSETTO:-0600
TZNAME:CST
DTSTART:20251102T070000
END:STANDARD
BEGIN:DAYLIGHT
TZOFFSETFROM:-0600
TZOFFSETTO:-0500
TZNAME:CDT
DTSTART:20260308T080000
END:DAYLIGHT
BEGIN:STANDARD
TZOFFSETFROM:-0500
TZOFFSETTO:-0600
TZNAME:CST
DTSTART:20261101T070000
END:STANDARD
BEGIN:DAYLIGHT
TZOFFSETFROM:-0600
TZOFFSETTO:-0500
TZNAME:CDT
DTSTART:20270314T080000
END:DAYLIGHT
BEGIN:STANDARD
TZOFFSETFROM:-0500
TZOFFSETTO:-0600
TZNAME:CST
DTSTART:20271107T070000
END:STANDARD
END:VTIMEZONE
BEGIN:VEVENT
DTSTART;VALUE=DATE:20260515
DTEND;VALUE=DATE:20260518
DTSTAMP:20260421T111121
CREATED:20260407T143632Z
LAST-MODIFIED:20260416T215143Z
UID:10001785-1778803200-1779062399@www.nbparks.org
SUMMARY:Freaky Friday: A New Musical
DESCRIPTION:Northbrook Community Theatre is excited to present Freaky Friday: A New Musical this Spring! Directed by Katie Denten\, David Zizic\, and Rhys Steele. \nSynopsis\nTeenager Ellie Blake and her mother Katherine do not get along\, which is why it doesn’t help when Ellie and Katherine switch bodies! Now (the day before Katherine’s wedding)\, Ellie and Katherine must learn to understand each other before they are stuck in each other’s bodies forever. Based on the classic novel and films of the same name\, Freaky Friday brings all the humor and heart of the original story to the stage in this musical adaptation. Come join us! \nPerformances & Tickets\n\nFriday\, May 15 @ 7pm\nSaturday\, May 16 @ 7pm\nSunday\, May 17 @ 2pm\n\nPurchase Tickets Online
URL:https://www.nbparks.org/event/freakyfriday/
LOCATION:IL
CATEGORIES:Northbrook Theatre
ATTACH;FMTTYPE=image/jpeg:https://www.nbparks.org/wp-content/uploads/PERF-0526-260147-NCT-FreakyFriday-Tickets-Web-Calendar-1280x720-1.avif
END:VEVENT
BEGIN:VEVENT
DTSTART;TZID=America/Chicago:20260515T133000
DTEND;TZID=America/Chicago:20260515T150000
DTSTAMP:20260421T111121
CREATED:20260115T225015Z
LAST-MODIFIED:20260115T225108Z
UID:10001742-1778851800-1778857200@www.nbparks.org
SUMMARY:Spring Flowers Bingo
DESCRIPTION:Ages: 55+ \nJoin Northbrook Senior Center for Bingo and light refreshments. April showers bring May flowers! Come play Bingo and win some beautiful prizes. \nAvailability & Registration
URL:https://www.nbparks.org/event/spring-flowers-bash/
LOCATION:Techny Prairie Activity Center\, 180 Anets Drive\, Northbrook\, IL\, 60062\, United States
CATEGORIES:Seniors,Techny Prairie Activity Center
ATTACH;FMTTYPE=image/jpeg:https://www.nbparks.org/wp-content/uploads/PRGRM-0622-Calendar-Slides-1280x720-.avif
END:VEVENT
END:VCALENDAR