BEGIN:VCALENDAR
VERSION:2.0
PRODID:-//Northbrook Park District - ECPv6.15.20//NONSGML v1.0//EN
CALSCALE:GREGORIAN
METHOD:PUBLISH
X-ORIGINAL-URL:https://www.nbparks.org
X-WR-CALDESC:Events for Northbrook Park District
REFRESH-INTERVAL;VALUE=DURATION:PT1H
X-Robots-Tag:noindex
X-PUBLISHED-TTL:PT1H
BEGIN:VTIMEZONE
TZID:America/Chicago
BEGIN:DAYLIGHT
TZOFFSETFROM:-0600
TZOFFSETTO:-0500
TZNAME:CDT
DTSTART:20250309T080000
END:DAYLIGHT
BEGIN:STANDARD
TZOFFSETFROM:-0500
TZOFFSETTO:-0600
TZNAME:CST
DTSTART:20251102T070000
END:STANDARD
BEGIN:DAYLIGHT
TZOFFSETFROM:-0600
TZOFFSETTO:-0500
TZNAME:CDT
DTSTART:20260308T080000
END:DAYLIGHT
BEGIN:STANDARD
TZOFFSETFROM:-0500
TZOFFSETTO:-0600
TZNAME:CST
DTSTART:20261101T070000
END:STANDARD
BEGIN:DAYLIGHT
TZOFFSETFROM:-0600
TZOFFSETTO:-0500
TZNAME:CDT
DTSTART:20270314T080000
END:DAYLIGHT
BEGIN:STANDARD
TZOFFSETFROM:-0500
TZOFFSETTO:-0600
TZNAME:CST
DTSTART:20271107T070000
END:STANDARD
END:VTIMEZONE
BEGIN:VEVENT
DTSTART;VALUE=DATE:20260411
DTEND;VALUE=DATE:20260413
DTSTAMP:20260421T091512
CREATED:20251113T224522Z
LAST-MODIFIED:20260306T041055Z
UID:10001704-1775865600-1776038399@www.nbparks.org
SUMMARY:High School Musical 2 JR.
DESCRIPTION:Northbrook Theatre Youth Company is excited to present High School Musical 2 JR. this winter. Directed by Katie Denten\, David Zizic\, and Rhys Steele. \nSynopsis\nEast High is out-of-school for the summer\, and Troy\, Gabriella\, and all their friends have just gotten jobs at Lava Springs Country Club. From golfing to talent shows\, the Wildcats are having a great summer — until friendships are put to the test. \nThe sequel to Disney’s hit 2006 film\, High School Musical 2 is filled with twice the fun—come join us! \nPerformances\nPerformances will be April 11 and 12 at 10am\, 1pm\, and 3:30pm. \nPurchase Tickets
URL:https://www.nbparks.org/event/high-school-musical-2-jr/
LOCATION:Field Middle School\, 2055 Landwehr Rd\, Northbrook\, IL\, 60062
CATEGORIES:Northbrook Theatre
ATTACH;FMTTYPE=image/jpeg:https://www.nbparks.org/wp-content/uploads/PERF-0426-251000-NTYC-HSM2-Tickets-Web-Calendar-1280x720-1.avif
END:VEVENT
END:VCALENDAR