BEGIN:VCALENDAR
VERSION:2.0
PRODID:-//Northbrook Park District - ECPv6.15.20//NONSGML v1.0//EN
CALSCALE:GREGORIAN
METHOD:PUBLISH
X-ORIGINAL-URL:https://www.nbparks.org
X-WR-CALDESC:Events for Northbrook Park District
REFRESH-INTERVAL;VALUE=DURATION:PT1H
X-Robots-Tag:noindex
X-PUBLISHED-TTL:PT1H
BEGIN:VTIMEZONE
TZID:America/Chicago
BEGIN:DAYLIGHT
TZOFFSETFROM:-0600
TZOFFSETTO:-0500
TZNAME:CDT
DTSTART:20250309T080000
END:DAYLIGHT
BEGIN:STANDARD
TZOFFSETFROM:-0500
TZOFFSETTO:-0600
TZNAME:CST
DTSTART:20251102T070000
END:STANDARD
BEGIN:DAYLIGHT
TZOFFSETFROM:-0600
TZOFFSETTO:-0500
TZNAME:CDT
DTSTART:20260308T080000
END:DAYLIGHT
BEGIN:STANDARD
TZOFFSETFROM:-0500
TZOFFSETTO:-0600
TZNAME:CST
DTSTART:20261101T070000
END:STANDARD
BEGIN:DAYLIGHT
TZOFFSETFROM:-0600
TZOFFSETTO:-0500
TZNAME:CDT
DTSTART:20270314T080000
END:DAYLIGHT
BEGIN:STANDARD
TZOFFSETFROM:-0500
TZOFFSETTO:-0600
TZNAME:CST
DTSTART:20271107T070000
END:STANDARD
END:VTIMEZONE
BEGIN:VEVENT
DTSTART;VALUE=DATE:20260411
DTEND;VALUE=DATE:20260413
DTSTAMP:20260421T091542
CREATED:20251113T224522Z
LAST-MODIFIED:20260306T041055Z
UID:10001704-1775865600-1776038399@www.nbparks.org
SUMMARY:High School Musical 2 JR.
DESCRIPTION:Northbrook Theatre Youth Company is excited to present High School Musical 2 JR. this winter. Directed by Katie Denten\, David Zizic\, and Rhys Steele. \nSynopsis\nEast High is out-of-school for the summer\, and Troy\, Gabriella\, and all their friends have just gotten jobs at Lava Springs Country Club. From golfing to talent shows\, the Wildcats are having a great summer — until friendships are put to the test. \nThe sequel to Disney’s hit 2006 film\, High School Musical 2 is filled with twice the fun—come join us! \nPerformances\nPerformances will be April 11 and 12 at 10am\, 1pm\, and 3:30pm. \nPurchase Tickets
URL:https://www.nbparks.org/event/high-school-musical-2-jr/
LOCATION:Field Middle School\, 2055 Landwehr Rd\, Northbrook\, IL\, 60062
CATEGORIES:Northbrook Theatre
ATTACH;FMTTYPE=image/jpeg:https://www.nbparks.org/wp-content/uploads/PERF-0426-251000-NTYC-HSM2-Tickets-Web-Calendar-1280x720-1.avif
END:VEVENT
BEGIN:VEVENT
DTSTART;TZID=America/Chicago:20260411T100000
DTEND;TZID=America/Chicago:20260411T113000
DTSTAMP:20260421T091542
CREATED:20251111T211231Z
LAST-MODIFIED:20260408T222811Z
UID:10001678-1775901600-1775907000@www.nbparks.org
SUMMARY:Brunch with the Bunny
DESCRIPTION:Join us for a delicious brunch\, crafts\, activities and a visit from the Spring Bunny! This year’s event will be held at Techny Prairie Activity Center while Northbrook Community Center (formerly Leisure Center) is undergoing renovations. Children under 2 years are free. Pre-registration is required. Fee is per person. \nEvent Canceled
URL:https://www.nbparks.org/event/bunnybrunch/
LOCATION:Techny Prairie Activity Center\, 180 Anets Drive\, Northbrook\, IL\, 60062\, United States
CATEGORIES:Community Events,Techny Prairie Activity Center
ATTACH;FMTTYPE=image/jpeg:https://www.nbparks.org/wp-content/uploads/EVNT-0425-250144-BrunchBunny-Web-Calendar-1280x720-1.avif
END:VEVENT
BEGIN:VEVENT
DTSTART;TZID=America/Chicago:20260411T140000
DTEND;TZID=America/Chicago:20260411T160000
DTSTAMP:20260421T091542
CREATED:20260323T202545Z
LAST-MODIFIED:20260409T233748Z
UID:10001779-1775916000-1775923200@www.nbparks.org
SUMMARY:Anetsberger Parent/Child Scramble
DESCRIPTION:Bring the whole family out for a fun and memorable day on the course at our Parent/Child Golf Tournament! Held at Anetsberger Golf Course on Saturday\, April 11\, this event is the perfect opportunity for families to team up\, enjoy some friendly competition\, and create lasting memories together. \nDesigned for golfers ages 7–14 and their parent or guardian\, this tournament focuses on fun\, learning\, and quality time -whether you’re seasoned players or just getting started. It’s a great way to introduce young golfers to the game in a relaxed and supportive environment while connecting with other golf families in the community. \nOpen to Northbrook Golf Academy students and Anetsberger Season Pass Holders. \nRegistration & Availability
URL:https://www.nbparks.org/event/anetsberger-parent-child-scramble/
LOCATION:Anetsberger Golf Course\, 1750 Techny Road\, Northbrook\, IL\, 60062\, United States
CATEGORIES:Community Events
ATTACH;FMTTYPE=image/jpeg:https://www.nbparks.org/wp-content/uploads/GOLF-0426-260276-ParentChildTournament-Web-Calendar-1280x720-1.avif
END:VEVENT
BEGIN:VEVENT
DTSTART;TZID=America/Chicago:20260411T170000
DTEND;TZID=America/Chicago:20260411T203000
DTSTAMP:20260421T091542
CREATED:20251111T195151Z
LAST-MODIFIED:20251111T195151Z
UID:10001674-1775926800-1775939400@www.nbparks.org
SUMMARY:Parents' Night Out: Spring Has Sprung
DESCRIPTION:Calling all parents! Ready for your long-awaited date night? Need an evening to shop for the upcoming holidays? Now’s your chance! Children ages 4-10 welcome. While you are out\, we will be engaged in a night of age-appropriate games\, crafts\, and activities centered around the theme ‘Spring Has Sprung’. Food and snacks will be provided! \nRegister Now
URL:https://www.nbparks.org/event/parents-night-out-spring-has-sprung/
LOCATION:Techny Prairie Activity Center\, 180 Anets Drive\, Northbrook\, IL\, 60062\, United States
CATEGORIES:Techny Prairie Activity Center
ATTACH;FMTTYPE=image/jpeg:https://www.nbparks.org/wp-content/uploads/FITN-1225-250761-ParentsNightOut-Web-Calendar-1280x720-1.avif
END:VEVENT
END:VCALENDAR