BEGIN:VCALENDAR
VERSION:2.0
PRODID:-//Northbrook Park District - ECPv6.15.20//NONSGML v1.0//EN
CALSCALE:GREGORIAN
METHOD:PUBLISH
X-WR-CALNAME:Northbrook Park District
X-ORIGINAL-URL:https://www.nbparks.org
X-WR-CALDESC:Events for Northbrook Park District
REFRESH-INTERVAL;VALUE=DURATION:PT1H
X-Robots-Tag:noindex
X-PUBLISHED-TTL:PT1H
BEGIN:VTIMEZONE
TZID:America/Chicago
BEGIN:DAYLIGHT
TZOFFSETFROM:-0600
TZOFFSETTO:-0500
TZNAME:CDT
DTSTART:20250309T080000
END:DAYLIGHT
BEGIN:STANDARD
TZOFFSETFROM:-0500
TZOFFSETTO:-0600
TZNAME:CST
DTSTART:20251102T070000
END:STANDARD
BEGIN:DAYLIGHT
TZOFFSETFROM:-0600
TZOFFSETTO:-0500
TZNAME:CDT
DTSTART:20260308T080000
END:DAYLIGHT
BEGIN:STANDARD
TZOFFSETFROM:-0500
TZOFFSETTO:-0600
TZNAME:CST
DTSTART:20261101T070000
END:STANDARD
BEGIN:DAYLIGHT
TZOFFSETFROM:-0600
TZOFFSETTO:-0500
TZNAME:CDT
DTSTART:20270314T080000
END:DAYLIGHT
BEGIN:STANDARD
TZOFFSETFROM:-0500
TZOFFSETTO:-0600
TZNAME:CST
DTSTART:20271107T070000
END:STANDARD
END:VTIMEZONE
BEGIN:VEVENT
DTSTART;TZID=America/Chicago:20260405T110000
DTEND;TZID=America/Chicago:20260405T140000
DTSTAMP:20260421T091220
CREATED:20260313T214751Z
LAST-MODIFIED:20260313T214751Z
UID:10001778-1775386800-1775397600@www.nbparks.org
SUMMARY:Easter Brunch at Acorn Grill + Terrace
DESCRIPTION:Celebrate Easter with a special holiday brunch featuring a chef-curated Easter Brunch Menu\, a Honey Baked Ham Carving Station\, and a festive Easter Dessert Station at Acorn Grill + Terrace located inside Heritage Oaks Golf Club. \nKids eat free! Enjoy a relaxed Easter Sunday overlooking the course with family\, great food\, and seasonal favorites.
URL:https://www.nbparks.org/event/easter-brunch-at-acorn-grill-terrace/
LOCATION:Acorn Grill + Terrace\, 3535 Dundee Rd\, Northbrook\, IL\, 60062
CATEGORIES:Community Events,Heritage Oaks Golf Club
ATTACH;FMTTYPE=image/jpeg:https://www.nbparks.org/wp-content/uploads/GOLF-0426-260261-Acorn-EasterBrunch-Web-Calendar-1280x720-1.avif
END:VEVENT
END:VCALENDAR